BEGIN:VCALENDAR
VERSION:2.0
PRODID:-//COST Action BioAqua - ECPv6.15.16.1//NONSGML v1.0//EN
CALSCALE:GREGORIAN
METHOD:PUBLISH
X-WR-CALNAME:COST Action BioAqua
X-ORIGINAL-URL:https://bioaqua-cost.eu
X-WR-CALDESC:Events for COST Action BioAqua
REFRESH-INTERVAL;VALUE=DURATION:PT1H
X-Robots-Tag:noindex
X-PUBLISHED-TTL:PT1H
BEGIN:VTIMEZONE
TZID:UTC
BEGIN:STANDARD
TZOFFSETFROM:+0000
TZOFFSETTO:+0000
TZNAME:UTC
DTSTART:20230101T000000
END:STANDARD
END:VTIMEZONE
BEGIN:VEVENT
DTSTART;TZID=UTC:20240901T080000
DTEND;TZID=UTC:20240901T170000
DTSTAMP:20260424T201325
CREATED:20240630T121322Z
LAST-MODIFIED:20240630T124119Z
UID:13655-1725177600-1725210000@bioaqua-cost.eu
SUMMARY:Main pathogens affecting European aquaculture
DESCRIPTION:– Speaker: Anna Toffan – Addressed to: researchers and innovators.\nCollaborative grant application possibilities\, networking and guidance – Speaker: Eva García Muntión – Addressed to: All WG participants\, mainly WG leaders. \n(Tentative) Electro-chemical immunosensors for detection of contamminants in aquaculture environments – Speaker: Sefi Vernick – Addressed to: Researchers and fish farmers. \nRisk assessment of novel biomaterials used in aquaculture for disease prevention – Speakers: Rajat Nar\, Enda Cunnis\, Carlos Mazorra – Addressed to: researchers and fish farmers.
URL:https://bioaqua-cost.eu/event/main-pathogens-affecting-european-aquaculture/
CATEGORIES:Webinars
END:VEVENT
BEGIN:VEVENT
DTSTART;TZID=UTC:20240314T080000
DTEND;TZID=UTC:20240314T170000
DTSTAMP:20260424T201325
CREATED:20240630T121022Z
LAST-MODIFIED:20240630T124124Z
UID:13653-1710403200-1710435600@bioaqua-cost.eu
SUMMARY:Delphi metodology for technology foresight
DESCRIPTION:Speaker: Eva García Muntión – Addressed to: All WG participants\, mainly WG leaders.
URL:https://bioaqua-cost.eu/event/delphi-metodology-for-technology-foresight/
CATEGORIES:Webinars
END:VEVENT
END:VCALENDAR